BEGIN:VCALENDAR
VERSION:2.0
PRODID:-//Glaucoma.Care - ECPv6.15.20//NONSGML v1.0//EN
CALSCALE:GREGORIAN
METHOD:PUBLISH
X-ORIGINAL-URL:https://glaucoma.care
X-WR-CALDESC:Events for Glaucoma.Care
REFRESH-INTERVAL;VALUE=DURATION:PT1H
X-Robots-Tag:noindex
X-PUBLISHED-TTL:PT1H
BEGIN:VTIMEZONE
TZID:UTC
BEGIN:STANDARD
TZOFFSETFROM:+0000
TZOFFSETTO:+0000
TZNAME:UTC
DTSTART:20210101T000000
END:STANDARD
END:VTIMEZONE
BEGIN:VEVENT
DTSTART;VALUE=DATE:20240229
DTEND;VALUE=DATE:20240304
DTSTAMP:20260424T122450
CREATED:20211203T230908Z
LAST-MODIFIED:20211203T232755Z
UID:2676-1709164800-1709510399@glaucoma.care
SUMMARY:2024 AGS ANNUAL MEETING
DESCRIPTION:check back for updates
URL:https://glaucoma.care/event/2024-ags-annual-meeting/
LOCATION:Hyatt Regency Huntington Beach
CATEGORIES:Glaucoma
END:VEVENT
BEGIN:VEVENT
DTSTART;VALUE=DATE:20230302
DTEND;VALUE=DATE:20230306
DTSTAMP:20260424T122450
CREATED:20211203T230732Z
LAST-MODIFIED:20211203T232807Z
UID:2672-1677715200-1678060799@glaucoma.care
SUMMARY:2023 AGS ANNUAL MEETING
DESCRIPTION:more info coming soon
URL:https://glaucoma.care/event/2023-ags-annual-meeting/
LOCATION:Marriott Austin Downtown
CATEGORIES:Glaucoma
END:VEVENT
BEGIN:VEVENT
DTSTART;VALUE=DATE:20220625
DTEND;VALUE=DATE:20220626
DTSTAMP:20260424T122450
CREATED:20211203T225920Z
LAST-MODIFIED:20211203T225920Z
UID:2663-1656115200-1656201599@glaucoma.care
SUMMARY:Glaucoma Patient Summit
DESCRIPTION:The Glaucoma Patient Summit highlights advances in treatment options and practical information to help patients understand and live with glaucoma.
URL:https://glaucoma.care/event/glaucoma-patient-summit/
LOCATION:The Hyatt Lodge at McDonalds Campus\, 2815 Jorie Blvd\, Oak Brook\, IL\, United States
CATEGORIES:Glaucoma
END:VEVENT
BEGIN:VEVENT
DTSTART;VALUE=DATE:20220303
DTEND;VALUE=DATE:20220307
DTSTAMP:20260424T122450
CREATED:20211203T230542Z
LAST-MODIFIED:20211203T232735Z
UID:2667-1646265600-1646611199@glaucoma.care
SUMMARY:AGS 2022 Annual Meeting
DESCRIPTION:2022 AGS ANNUAL MEETING\nMarch 3 – 6 | Nashville\, TN\n\nThe 2022 American Glaucoma Society Annual Meeting will be held live at the Grand Hyatt Hotel in Nashville\, TN March 3 – 6\, 2022 and if you can’t join us live\, you can access the virtual meeting portal. \nAll live events will be streamed to our virtual meeting site\, you don’t have to miss out on anything! \nView the 2022 Program Schedule \nCheck back here for more information as it becomes available. \nImportant Dates \n\n\n\n\n\nSeptember 15 to October 14: Abstract submissions open\nSeptember 16 to October 13: Video competition open\nOctober 5: Member registration + housing opens\nNovember 17: Non-member registration + housing opens\nFebruary 8\, 2022: Pre-registration closes\n\n\n\n\n\n\n\n\n\n\nHonored Guests and Lecturers\nJoin the AGS in celebrating our 2021 honored guests and lecturers! \n\nGuest of Honor – Wallace L. M. Alward\, MD\nAGS Lecturer – M. Roy Wilson\, MD\, MS\nSurgery Day Lecture – Arsham Sheybani\, MD\nPresident’s Award – Sue Vicchrilli\nInnovator Award – Murray A. Johnstone\, MD\nInternational Scholar – Yvonne Buys\, MD\nClinician Scientist Lecture – Felipe A. Medeiros\, MD\, PhD\nOutstanding Educator – Paul A. Sidoti\, MD\nHumanitarian Award – Oluwatosin U. Smith\, MD
URL:https://glaucoma.care/event/ags-2022-annual-meeting/
LOCATION:Grand Hyatt Nashville\, 1000 Broadway\, Nashville\, TN\, 37203\, United States
CATEGORIES:Glaucoma
END:VEVENT
END:VCALENDAR